BEGIN:VCALENDAR
VERSION:2.0
PRODID:-//Fetsund Normisjon - ECPv4.6.26.2//NONSGML v1.0//EN
CALSCALE:GREGORIAN
METHOD:PUBLISH
X-WR-CALNAME:Fetsund Normisjon
X-ORIGINAL-URL:https://fetsund.normisjon.no
X-WR-CALDESC:Events for Fetsund Normisjon
BEGIN:VEVENT
DTSTART;TZID=Europe/Oslo:20260503T110000
DTEND;TZID=Europe/Oslo:20260503T190000
DTSTAMP:20260424T142007
CREATED:20260401T071324Z
LAST-MODIFIED:20260401T071324Z
UID:4923-1777806000-1777834800@fetsund.normisjon.no
SUMMARY:Utleie
DESCRIPTION:Utleie : Gudstjeneste 11-19 \n
URL:https://fetsund.normisjon.no/event/utleie-490/
END:VEVENT
END:VCALENDAR